BEGIN:VCALENDAR
VERSION:2.0
PRODID:-//Independent Theater Hungary - ECPv6.15.20//NONSGML v1.0//EN
CALSCALE:GREGORIAN
METHOD:PUBLISH
X-WR-CALNAME:Independent Theater Hungary
X-ORIGINAL-URL:https://independenttheater.hu/en/
X-WR-CALDESC:Events for Independent Theater Hungary
REFRESH-INTERVAL;VALUE=DURATION:PT1H
X-Robots-Tag:noindex
X-PUBLISHED-TTL:PT1H
BEGIN:VTIMEZONE
TZID:Europe/Budapest
BEGIN:DAYLIGHT
TZOFFSETFROM:+0100
TZOFFSETTO:+0200
TZNAME:CEST
DTSTART:20250330T010000
END:DAYLIGHT
BEGIN:STANDARD
TZOFFSETFROM:+0200
TZOFFSETTO:+0100
TZNAME:CET
DTSTART:20251026T010000
END:STANDARD
BEGIN:DAYLIGHT
TZOFFSETFROM:+0100
TZOFFSETTO:+0200
TZNAME:CEST
DTSTART:20260329T010000
END:DAYLIGHT
BEGIN:STANDARD
TZOFFSETFROM:+0200
TZOFFSETTO:+0100
TZNAME:CET
DTSTART:20261025T010000
END:STANDARD
BEGIN:DAYLIGHT
TZOFFSETFROM:+0100
TZOFFSETTO:+0200
TZNAME:CEST
DTSTART:20270328T010000
END:DAYLIGHT
BEGIN:STANDARD
TZOFFSETFROM:+0200
TZOFFSETTO:+0100
TZNAME:CET
DTSTART:20271031T010000
END:STANDARD
END:VTIMEZONE
BEGIN:VEVENT
DTSTART;TZID=Europe/Budapest:20260314T190000
DTEND;TZID=Europe/Budapest:20260314T200000
DTSTAMP:20260421T223716
CREATED:20260106T125735Z
LAST-MODIFIED:20260106T125735Z
UID:3424-1773514800-1773518400@independenttheater.hu
SUMMARY:The best village
DESCRIPTION:
URL:https://independenttheater.hu/en/events/the-best-village/
LOCATION:Füszi\, Páva u. 30\, Budapest\, Hungary
CATEGORIES:Best Village,Best village,Current play,Best Village,Play
ATTACH;FMTTYPE=image/png:https://independenttheater.hu/wp-content/uploads/2025/06/Nevtelen-terv-26.png
END:VEVENT
BEGIN:VEVENT
DTSTART;TZID=Europe/Budapest:20260318T190000
DTEND;TZID=Europe/Budapest:20260318T190000
DTSTAMP:20260421T223716
CREATED:20260210T142855Z
LAST-MODIFIED:20260210T142855Z
UID:3517-1773860400-1773860400@independenttheater.hu
SUMMARY:Builders of a country - PUNKOPERA
DESCRIPTION:Tickets\nArtists \nWriter-director: Rodrigó Balogh és Márton Illés \nCast: Csányi Dávid\, Farkas Ramóna\, Nemcsók Nóra\, Szegedi Tamás András \nDramaturg: Tímea Éva Bogya \nMusic: Dávid Varga és István Babindák \nVisuals: Péter Gyenei \nAssistant director: Márton Erhardt \nShort description \nThe Final Part Of The “Fathers And Sons” Trilogy \nWhile many see the majority of Gypsies as unemployed\, Roma workers have long played a prominent role in building houses in Hungary. Initially in the field of adobe bricklaying\, later in brick factories and then in the construction industry in general\, the role of Roma has become increasingly important\, sometimes clinging to their identity\, sometimes abandoning it.  \n–
URL:https://independenttheater.hu/en/events/builders-of-a-country-punkopera/
LOCATION:Füszi\, Páva u. 30\, Budapest\, Hungary
CATEGORIES:Builders of a country,Current play,Play
END:VEVENT
BEGIN:VEVENT
DTSTART;TZID=Europe/Budapest:20260320T190000
DTEND;TZID=Europe/Budapest:20260320T200000
DTSTAMP:20260421T223716
CREATED:20260106T130008Z
LAST-MODIFIED:20260217T150309Z
UID:3428-1774033200-1774036800@independenttheater.hu
SUMMARY:Who laughs last
DESCRIPTION:Tickets\n  \nFüszi’s very first stand-up night! \nRoma and non-Roma girls on the same stage – hard-hitting stories\, dangerous honesty\, and four harmless women. \nWomen doing stand-up? Of course! Budapest has never seen performers this brave and outspoken.   \nIf you’ve never been to a stand-up show\, this is the time.If you have\, this night will take it to the next level – don’t be fooled by the stairs leading down to the stage.  \nPhoto: Bordás Róbert
URL:https://independenttheater.hu/en/events/who-laughs-last-3/
LOCATION:Hungary
CATEGORIES:Current play,Play,Who laughs last
ATTACH;FMTTYPE=image/png:https://independenttheater.hu/wp-content/uploads/2026/01/Nevtelen-terv-35.png
END:VEVENT
END:VCALENDAR