BEGIN:VCALENDAR
VERSION:2.0
PRODID:-//Independent Theater Hungary - ECPv6.15.20//NONSGML v1.0//EN
CALSCALE:GREGORIAN
METHOD:PUBLISH
X-ORIGINAL-URL:https://independenttheater.hu/en/
X-WR-CALDESC:Events for Independent Theater Hungary
REFRESH-INTERVAL;VALUE=DURATION:PT1H
X-Robots-Tag:noindex
X-PUBLISHED-TTL:PT1H
BEGIN:VTIMEZONE
TZID:Europe/Budapest
BEGIN:DAYLIGHT
TZOFFSETFROM:+0100
TZOFFSETTO:+0200
TZNAME:CEST
DTSTART:20240331T010000
END:DAYLIGHT
BEGIN:STANDARD
TZOFFSETFROM:+0200
TZOFFSETTO:+0100
TZNAME:CET
DTSTART:20241027T010000
END:STANDARD
BEGIN:DAYLIGHT
TZOFFSETFROM:+0100
TZOFFSETTO:+0200
TZNAME:CEST
DTSTART:20250330T010000
END:DAYLIGHT
BEGIN:STANDARD
TZOFFSETFROM:+0200
TZOFFSETTO:+0100
TZNAME:CET
DTSTART:20251026T010000
END:STANDARD
BEGIN:DAYLIGHT
TZOFFSETFROM:+0100
TZOFFSETTO:+0200
TZNAME:CEST
DTSTART:20260329T010000
END:DAYLIGHT
BEGIN:STANDARD
TZOFFSETFROM:+0200
TZOFFSETTO:+0100
TZNAME:CET
DTSTART:20261025T010000
END:STANDARD
END:VTIMEZONE
BEGIN:VEVENT
DTSTART;TZID=Europe/Budapest:20251115T190000
DTEND;TZID=Europe/Budapest:20251115T210000
DTSTAMP:20260426T061551
CREATED:20250916T103512Z
LAST-MODIFIED:20250925T210751Z
UID:3289-1763233200-1763240400@independenttheater.hu
SUMMARY:Disrupters of a Regime
DESCRIPTION:How can a young person from a Roma village become successful? How far can an artist go before the authorities silence him? What would you do if the state interfered in your work and private life? How can a filmmaker become truly successful in an age of socialism with its watchful eyes? The System Breakers doesn’t mince words: this story is about oppression\, freedom\, and those who don’t want to be losers in a dictatorship.\n\nSándor wants to be a free filmmaker\, but the Eastern European dictatorship he lives in has other plans for him. The state determines his professional work and social relationships\, and even intrudes into his bedroom. \n\nCaution! The System Destroyers lecture contributes in some way to expanding our historical knowledge. Don’t worry\, this story won’t be in the textbooks either. But it is necessary so that we can face our common past\, our present\, and move forward. The people and events in the performance are fictional\, but a significant portion of the stories presented actually happened. The birth of the show was inspired by real people whose struggles deserve respect.  \nTrailer: https://www.youtube.com/watch?v=ofA4iY6kuj0\nWriter: Rodrigó Balogh \, Márton Illés Director: Rodrigó Balogh Actors: Dávid Csányi\, Krisztina Fenyvesi\, Tamás András SzegediDramaturg: Tímea Éva BogyaAssistant director: Lucia Lakatos Musical editor: Dávid VargaLight design: Ferenc Nagy Technical assistant: Szilárd SzegediTranslation Hungarian-Romani : Géza Buzás-HábelProofreading Hungarian-German: Ádám Gagyi\n\nThe performance deals openly with sexuality. Viewing it is not recommended for those under the age of 18 according to Hungarian law. \n\n\nThe play and performance are based on the research of Gábor Bernáth at the Historical Archives of the State Security Services.Thanks to ERIAC and the European Union for supporting the production of the play and performance\, and to Chapati Design Berlin for the wonderful costumes!
URL:https://independenttheater.hu/en/events/disrupters-of-a-regime/
LOCATION:Füszi\, Páva u. 30\, Budapest\, Hungary
CATEGORIES:Play,System destroyers
END:VEVENT
END:VCALENDAR