BEGIN:VCALENDAR
VERSION:2.0
PRODID:-//Independent Theater Hungary - ECPv6.15.20//NONSGML v1.0//EN
CALSCALE:GREGORIAN
METHOD:PUBLISH
X-WR-CALNAME:Independent Theater Hungary
X-ORIGINAL-URL:https://independenttheater.hu/en/
X-WR-CALDESC:Events for Independent Theater Hungary
REFRESH-INTERVAL;VALUE=DURATION:PT1H
X-Robots-Tag:noindex
X-PUBLISHED-TTL:PT1H
BEGIN:VTIMEZONE
TZID:Europe/Budapest
BEGIN:DAYLIGHT
TZOFFSETFROM:+0100
TZOFFSETTO:+0200
TZNAME:CEST
DTSTART:20250330T010000
END:DAYLIGHT
BEGIN:STANDARD
TZOFFSETFROM:+0200
TZOFFSETTO:+0100
TZNAME:CET
DTSTART:20251026T010000
END:STANDARD
BEGIN:DAYLIGHT
TZOFFSETFROM:+0100
TZOFFSETTO:+0200
TZNAME:CEST
DTSTART:20260329T010000
END:DAYLIGHT
BEGIN:STANDARD
TZOFFSETFROM:+0200
TZOFFSETTO:+0100
TZNAME:CET
DTSTART:20261025T010000
END:STANDARD
BEGIN:DAYLIGHT
TZOFFSETFROM:+0100
TZOFFSETTO:+0200
TZNAME:CEST
DTSTART:20270328T010000
END:DAYLIGHT
BEGIN:STANDARD
TZOFFSETFROM:+0200
TZOFFSETTO:+0100
TZNAME:CET
DTSTART:20271031T010000
END:STANDARD
END:VTIMEZONE
BEGIN:VEVENT
DTSTART;TZID=Europe/Budapest:20260508T200000
DTEND;TZID=Europe/Budapest:20260508T213000
DTSTAMP:20260423T192628
CREATED:20260422T105016Z
LAST-MODIFIED:20260422T105016Z
UID:4082-1778270400-1778275800@independenttheater.hu
SUMMARY:8th Roma Heroes – International Theater Festival - Riah Knight (GE): Lie with me
DESCRIPTION:Tickets\nPinceszínház\, Színházterem\n1093 Budapest\, Török Pál S. 3. \nArtists\n\n\n\n\nDirector: Katharina Stoll\nPerformer: Riah Knight \n\n\n\n\nAbout\n\n\n\n\nRiah desires to be loved. To be loved by a man. Riah lies in bed and fantasizes. Her fantasies are wet\, steamy\, sensual\, hopeful\, and discouraging all at once. As she fantasizes\, Adam and Lilith\, Jesus\, and many others from the Bible come to her mind. All this sexual energy makes it hard to breathe. Would you get into bed with Riah if she asked you to?       \nA performance by Riah Knight\, a British Traveller artist living and working in Germany\, combines theater\, music\, and activism. \nA production by Glossy Pain and Berlin TD Theatre. \nWarning: The performance is sexually explicit and deals with religion in a provocative manner. Recommended for ages 16 and up.  \nRuntime: 50 mins (no intermission)
URL:https://independenttheater.hu/en/events/8th-roma-heroes-international-theater-festival-riah-knight-ge-lie-with-me/
CATEGORIES:Current play
END:VEVENT
BEGIN:VEVENT
DTSTART;TZID=Europe/Budapest:20260509T180000
DTEND;TZID=Europe/Budapest:20260509T190000
DTSTAMP:20260423T192628
CREATED:20260422T105414Z
LAST-MODIFIED:20260422T105414Z
UID:4081-1778349600-1778353200@independenttheater.hu
SUMMARY:8th Roma Heroes – International Theater Festival - Rampa Prenestina (IT) Identita Incerte
DESCRIPTION:Tickets\n\nPinceszínház\, Színházterem\n1093 Budapest\, Török Pál S. 3. \n\nArtists\n\n\n\n\nCast: Gemila Durmis\, Mattia Alberghetti\, Erik Nikolic\, Sasha Serio\, Giulia Massimini\, Nedzad Husovic\nArtistic Direction: Giulia Massimini\, és Sebastian Spinella \n\n\n\n\nAbout\n\n\n\n\n“Hi! Where are you from?\nAre you Bosnian? Serbian? Macedonian? Ukrainian?\nI don’t know… maybe… I think I’m Italian.\nAre you Roma? … Roman!”Stand-up comedy from here and there\, from the suburbs and everywhere.\nIf you feel like a strange creature\, come check us out!
URL:https://independenttheater.hu/en/events/8th-roma-heroes-international-theater-festival-rampa-prenestina-it-identita-incerte/
CATEGORIES:Current play
END:VEVENT
BEGIN:VEVENT
DTSTART;TZID=Europe/Budapest:20260509T200000
DTEND;TZID=Europe/Budapest:20260509T213000
DTSTAMP:20260423T192628
CREATED:20260422T105545Z
LAST-MODIFIED:20260422T105545Z
UID:4080-1778356800-1778362200@independenttheater.hu
SUMMARY:8th Roma Heroes – International Theater Festival - Independent Theater Hungary (HU) Who laughs last?
DESCRIPTION:Tickets\n\nPinceszínház\, Színházterem\n1093 Budapest\, Török Pál S. 3. \n\nPerformers\n\n\n\nCast: Balogh Orsolya\, Farkas Ramóna\, Lakatos Lucia\, Merina Camacho AbigailKözreműködők: Bogya Tímea Éva\, Dömök Edina\, Boda-Novy Emília\n\n\n\nAbout\n\n\n\n\nStand-up is mainly a male genre—but what are we to do when the girls of Independent Theater Hungary are tougher than anyone else? Four “harmless” chicks set the stage on fire as they win over every heart with playful ease and leave every abdominal muscle aching. Once they open their mouths and the words start pouring out\, we might just have to rethink the concept of harmlessness.   \nPerformers: Balogh Orsolya\, Farkas Ramóna\, Lakatos Lucia és Merina C. Abigail \nRuntime: 80 mins (no intermission)
URL:https://independenttheater.hu/en/events/8th-roma-heroes-international-theater-festival-independent-theater-hungary-hu-who-laughs-last/
CATEGORIES:Current play,Who laughs last
END:VEVENT
BEGIN:VEVENT
DTSTART;TZID=Europe/Budapest:20260509T220000
DTEND;TZID=Europe/Budapest:20260509T230000
DTSTAMP:20260423T192628
CREATED:20260423T104010Z
LAST-MODIFIED:20260423T104144Z
UID:4078-1778364000-1778367600@independenttheater.hu
SUMMARY:8th Roma Heroes – International Theater Festival - Solo concert by Riah Knight
DESCRIPTION:The 8th Roma Heroes Festival will come to an end with a solo concert by actor\, singer and songwriter Riah Knight. During the concert\, the Hungarian audience will be entertained by both her previous works and her new composition.   \nKnown for blending R&B\, folk\, trip-hop\, and performance poetry in her music\, her concert at Roma Heros finds her in quieter territory — layered\, acoustic\, and unhurried. Her vocals\, characterised by evocative lyrics and a laid-back\, sultry delivery\, take on something more expansive when looped; folky and a little otherworldly\, drawing on the Indian concept of the drone — a sustained\, meditative foundation from which melody finds its shape. \nAn artist photo for the concert: photo credit Odelia Toder / Edit Riah Knight
URL:https://independenttheater.hu/en/events/8th-roma-heroes-international-theater-festival-solo-concert-by-riah-knight/
CATEGORIES:Current play
END:VEVENT
BEGIN:VEVENT
DTSTART;TZID=Europe/Budapest:20260528T190000
DTEND;TZID=Europe/Budapest:20260528T200000
DTSTAMP:20260423T192628
CREATED:20260331T083636Z
LAST-MODIFIED:20260331T083636Z
UID:3953-1779994800-1779998400@independenttheater.hu
SUMMARY:The Top of the Breadfruit Tree
DESCRIPTION:Tickets\n  \nWriter: Rodrigó Balogh and Márton Illés \nDramaturg: Laura Pamlényi \nMusic: Dávid Varga and István Babindák \nLighting design and technique: Ferenc Nagy \nCast: Emilia Boda-Novy\, Ramóna Farkas\, Nóra Nemcsók \nDirector: Rodrigó Balogh \n  \nShort description \nThis one stayed home and then went far away. \nThis one dreamed of a prince\, who was eventually eaten by a wolf. \nThis little one cleaned up nicely. \nA roller coaster for three voices. \nSzilvi\, Kriszti and Viki are looking for their own path in the dense forest of adulthood. \nIn the midst of successes and failures\, and changes of direction\, the biggest challenge is not reaching the finish line\, but avoiding losing ourselves and each other. \nThe Top of the Breadfruit Tree is a heartbreakingly funny coming-of-age story about togetherness\, distance\, re-planning and the invisible rubber band that pulls us back into our shared past even when we thought we had moved on. \nWhere do we end up when we leave everything behind? \nAnd what remains of us?
URL:https://independenttheater.hu/en/events/the-top-of-the-breadfruit-tree-3/
LOCATION:Füszi\, Páva u. 30\, Budapest\, Hungary
CATEGORIES:Current play,The Top of the Breadfruit Tree
END:VEVENT
BEGIN:VEVENT
DTSTART;TZID=Europe/Budapest:20260529T190000
DTEND;TZID=Europe/Budapest:20260529T200000
DTSTAMP:20260423T192628
CREATED:20260331T083910Z
LAST-MODIFIED:20260331T083910Z
UID:3952-1780081200-1780084800@independenttheater.hu
SUMMARY:The Top of the Breadfruit Tree
DESCRIPTION:Tickets\n  \nWriter: Rodrigó Balogh and Márton Illés \nDramaturg: Laura Pamlényi \nMusic: Dávid Varga and István Babindák \nLighting design and technique: Ferenc Nagy \nCast: Emilia Boda-Novy\, Ramóna Farkas\, Nóra Nemcsók \nDirector: Rodrigó Balogh \nShort description \nThis one stayed home and then went far away. \nThis one dreamed of a prince\, who was eventually eaten by a wolf. \nThis little one cleaned up nicely. \nA roller coaster for three voices. \nSzilvi\, Kriszti and Viki are looking for their own path in the dense forest of adulthood. \nIn the midst of successes and failures\, and changes of direction\, the biggest challenge is not reaching the finish line\, but avoiding losing ourselves and each other. \nThe Top of the Breadfruit Tree is a heartbreakingly funny coming-of-age story about togetherness\, distance\, re-planning and the invisible rubber band that pulls us back into our shared past even when we thought we had moved on. \nWhere do we end up when we leave everything behind? \nAnd what remains of us?
URL:https://independenttheater.hu/en/events/the-top-of-the-breadfruit-tree-2/
LOCATION:Füszi\, Páva u. 30\, Budapest\, Hungary
CATEGORIES:Current play,The Top of the Breadfruit Tree
END:VEVENT
BEGIN:VEVENT
DTSTART;TZID=Europe/Budapest:20260530T190000
DTEND;TZID=Europe/Budapest:20260530T200000
DTSTAMP:20260423T192628
CREATED:20260331T083231Z
LAST-MODIFIED:20260414T195423Z
UID:3951-1780167600-1780171200@independenttheater.hu
SUMMARY:The Top of the Breadfruit Tree
DESCRIPTION:TICKETS\n  \nWriter: Rodrigó Balogh and Márton Illés \nDramaturg: Laura Pamlényi \nMusic: Dávid Varga and István Babindák \nLighting design and technique: Ferenc Nagy \nCast: Emilia Boda-Novy\, Ramóna Farkas\, Nóra Nemcsók \nDirector: Rodrigó Balogh \nShort description \nThis one stayed home and then went far away. \nThis one dreamed of a prince\, who was eventually eaten by a wolf. \nThis little one cleaned up nicely. \nA roller coaster for three voices. \nSzilvi\, Kriszti and Viki are looking for their own path in the dense forest of adulthood. \nIn the midst of successes and failures\, and changes of direction\, the biggest challenge is not reaching the finish line\, but avoiding losing ourselves and each other. \nThe Top of the Breadfruit Tree is a heartbreakingly funny coming-of-age story about togetherness\, distance\, re-planning and the invisible rubber band that pulls us back into our shared past even when we thought we had moved on. \nWhere do we end up when we leave everything behind? \nAnd what remains of us?
URL:https://independenttheater.hu/en/events/the-top-of-the-breadfruit-tree/
LOCATION:Füszi\, Páva u. 30\, Budapest\, Hungary
CATEGORIES:Current play,The Top of the Breadfruit Tree
END:VEVENT
END:VCALENDAR