BEGIN:VCALENDAR
VERSION:2.0
PRODID:-//Independent Theater Hungary - ECPv6.15.20//NONSGML v1.0//EN
CALSCALE:GREGORIAN
METHOD:PUBLISH
X-WR-CALNAME:Independent Theater Hungary
X-ORIGINAL-URL:https://independenttheater.hu
X-WR-CALDESC:Események Independent Theater Hungary
REFRESH-INTERVAL;VALUE=DURATION:PT1H
X-Robots-Tag:noindex
X-PUBLISHED-TTL:PT1H
BEGIN:VTIMEZONE
TZID:Europe/Budapest
BEGIN:DAYLIGHT
TZOFFSETFROM:+0100
TZOFFSETTO:+0200
TZNAME:CEST
DTSTART:20250330T010000
END:DAYLIGHT
BEGIN:STANDARD
TZOFFSETFROM:+0200
TZOFFSETTO:+0100
TZNAME:CET
DTSTART:20251026T010000
END:STANDARD
BEGIN:DAYLIGHT
TZOFFSETFROM:+0100
TZOFFSETTO:+0200
TZNAME:CEST
DTSTART:20260329T010000
END:DAYLIGHT
BEGIN:STANDARD
TZOFFSETFROM:+0200
TZOFFSETTO:+0100
TZNAME:CET
DTSTART:20261025T010000
END:STANDARD
BEGIN:DAYLIGHT
TZOFFSETFROM:+0100
TZOFFSETTO:+0200
TZNAME:CEST
DTSTART:20270328T010000
END:DAYLIGHT
BEGIN:STANDARD
TZOFFSETFROM:+0200
TZOFFSETTO:+0100
TZNAME:CET
DTSTART:20271031T010000
END:STANDARD
END:VTIMEZONE
BEGIN:VEVENT
DTSTART;TZID=Europe/Budapest:20260424T190000
DTEND;TZID=Europe/Budapest:20260424T200000
DTSTAMP:20260422T234746
CREATED:20260304T141737Z
LAST-MODIFIED:20260304T142958Z
UID:3621-1777057200-1777060800@independenttheater.hu
SUMMARY:Forgács Rudolf: Cigány\, de rendes - A Trafó és a Független Színház Magyarország együttműködésében kiírt Stand Up Roma pályázati felhívás nyertes projektje.
DESCRIPTION:Jegyek\nA Trafó és a Független Színház Magyarország együttműködésében kiírt Stand Up Roma pályázati felhívás nyertes projektje. \n„Rudi nem lop. Dani nem terrorista. Ezek döbbenetes tények\, hiszen Rudi félig cigány\, Dani pedig félig arab.” \nForgács Rudolf félig roma\, félig székely fiatal humorista Erdélyből\, aki nemrég végzett a kolozsvári zeneakadémián. Őt egészíti ki Said Dániel félig magyar\, félig szíriai humorista\, a Showder Klub és a Dumaszínház visszatérő fellépője\, aki egész életét a 8. kerületben élte le. \n„Tehát Rudi egy muzsikus cigány\, Daninak pedig közel van a Muzsikus cigányok parkja. \nTalán ezért van\, hogy Rudi és Dani bírják egymást. Vagy azért\, mert mindketten szeretnék azt hinni\, hogy »rendesek« – bármit is jelentsen ez. (Valószínűleg azt\, hogy nem lopnak\, és nem terroristák.) \nMindenki hallott\, sőt\, talán még mondott is olyat valakiről\, hogy »cigány\, de rendes!«. Rudi is hallott már ilyet. Saját magáról. Ez a három\, elismerésnek szánt szó meglepően sokat rejt magában személyes és társadalmi szinten egyaránt. Milyen hatása van ennek a három szónak? Mi kell ahhoz\, hogy túllépjünk az előítéleteinken\, és vajon túl tudunk-e lépni rajtuk teljesen? \nA két humorista és a közönség együtt érezheti meg a határokat: miből lehet viccet csinálni\, és miből nem. És mindezt kinek? Az előadás végén mindenki maga döntheti el\, hogy mit gondol arról a cigányról\, akit a Trafó színpadán látott\, és hogy ez megváltoztatja-e a véleményét azokról\, akikkel még nem is találkozott.” (Forgács Rudolf) \nFotó: Kalicz Máté / Trafó
URL:https://independenttheater.hu/esemenyek/forgacs-rudolf-cigany-de-rendes-a-trafo-es-a-fuggetlen-szinhaz-magyarorszag-egyuttmukodeseben-kiirt-stand-up-roma-palyazati-felhivas-nyertes-projektje/
LOCATION:Füszi\, Páva u. 30\, Budapest\, Hungary
CATEGORIES:Aktuális előadás,Előadás,Forgács Rudolf: Cigány, de rendes
END:VEVENT
BEGIN:VEVENT
DTSTART;TZID=Europe/Budapest:20260425T190000
DTEND;TZID=Europe/Budapest:20260425T200000
DTSTAMP:20260422T234746
CREATED:20260304T142204Z
LAST-MODIFIED:20260304T142330Z
UID:3623-1777143600-1777147200@independenttheater.hu
SUMMARY:Ki nevet a végén?
DESCRIPTION:Jegyek\n  \nA Füszi első stand up estje! \nRoma és nem roma csajok egy színpadon – ütőképes történetek\, veszélyes őszinteség és négy ártalmatlan nő. \nNői stand-up? Hogyne lenne az! Hiszen ennyire bátor és szókimondó előadókat még nem látott Budapest. \nHa még nem voltál stand-upon\, itt az idő. Ha már voltál\, akkor ez az este új szintre emel – ne tévesszen meg a lépcsőlejárat a színpadhoz. \nFotó: Bordás Róbert
URL:https://independenttheater.hu/esemenyek/ki-nevet-a-vegen-3/
LOCATION:Füszi\, Páva u. 30\, Budapest\, Hungary
CATEGORIES:Aktuális előadás,Előadás,Ki nevet a végén?
END:VEVENT
BEGIN:VEVENT
DTSTART;TZID=Europe/Budapest:20260426T190000
DTEND;TZID=Europe/Budapest:20260426T200000
DTSTAMP:20260422T234746
CREATED:20260304T142314Z
LAST-MODIFIED:20260304T142351Z
UID:3625-1777230000-1777233600@independenttheater.hu
SUMMARY:Ki nevet a végén?
DESCRIPTION:Jegyek\nA Füszi első stand up estje! \nRoma és nem roma csajok egy színpadon – ütőképes történetek\, veszélyes őszinteség és négy ártalmatlan nő. \nNői stand-up? Hogyne lenne az! Hiszen ennyire bátor és szókimondó előadókat még nem látott Budapest. \nHa még nem voltál stand-upon\, itt az idő. Ha már voltál\, akkor ez az este új szintre emel – ne tévesszen meg a lépcsőlejárat a színpadhoz. \n 
URL:https://independenttheater.hu/esemenyek/ki-nevet-a-vegen-5/
LOCATION:Füszi\, Páva u. 30\, Budapest\, Hungary
CATEGORIES:Aktuális előadás,Előadás,Ki nevet a végén?
END:VEVENT
BEGIN:VEVENT
DTSTART;TZID=Europe/Budapest:20260505T070000
DTEND;TZID=Europe/Budapest:20260505T170000
DTSTAMP:20260422T234746
CREATED:20260415T184241Z
LAST-MODIFIED:20260422T110647Z
UID:3991-1777964400-1778000400@independenttheater.hu
SUMMARY:8. ROMA HŐSÖK NEMZETKÖZI SZÍNHÁZI FESZTIVÁL Giuvlipen Társulat (RO): Ébredjetek\, Romák!
DESCRIPTION:JEGYEK\nEötvös10 Művelődési Ház\, Pilinszky János Kamaraterem\n1067 Budapest\, Eötvös u. 10 \nA romániai Giuvlipen előadásában a humor az ellenállás eszközévé és az önkifejezés\, a kulturális büszkeség\, valamint a politikai megszólalás platformjává válik. Az identitások sokféleségének ünnepe\, a fennálló rend megkérdőjelezése és felhívás arra\, hogy újragondoljuk\, ki mondhatja el a viccet\, és ki volt túl sokáig poén tárgya. Ez a fajta humor nem a gyáváké. Az edzett közönség tudhatja\, hogy a romániai társulat eddig sem a finomkodásáról vagy a megalkuvásáról híres. Miért pont a stand up estjük lenne kivétel? A poénok csattannak\, felsértenek\, de fel is szabadítanak\, amellett\, hogy segítenek szárnyalni. Gyere\, és éld át velünk! \n  \nElőadják: Zita Moldovan\, Anastasia Dade\, Răzvan Rotaru\, Mihaela Drăgan \nJátékidő: 100 perc szünet nélkül
URL:https://independenttheater.hu/esemenyek/8-roma-hosok-nemzetkozi-szinhazi-fesztival-giuvlipen-tarsulat-romania-ebredjetek-romak/
LOCATION:Eötvös10\, Budapest\, Eötvös u. 10\, Budapest\, 1067\, Hungary\, 1067
CATEGORIES:Aktuális előadás
END:VEVENT
BEGIN:VEVENT
DTSTART;TZID=Europe/Budapest:20260506T070000
DTEND;TZID=Europe/Budapest:20260506T170000
DTSTAMP:20260422T234746
CREATED:20260415T184535Z
LAST-MODIFIED:20260422T110624Z
UID:3994-1778050800-1778086800@independenttheater.hu
SUMMARY:8. ROMA HŐSÖK NEMZETKÖZI SZÍNHÁZI FESZTIVÁL - Tallér Edina és Gerner Csaba (HU): Rosszarc
DESCRIPTION:JEGYEK\nEötvös10 Művelődési Ház\, Pilinszky János Kamaraterem\n1067 Budapest\, Eötvös u. 10 \n Trafó és a Független Színház Magyarország Stand Up Roma pályázatának nyertes projektje. \n  \nA stand up és monodráma határán mozgó előadás\, amelyben egy színész saját történetein keresztül mutatja meg\, hogyan épülnek fel a színpadi karakterek. A jelenetek egyszerre játékosak és szembesítő erejűek\, rávilágítanak arra\, hogyan látjuk egymást és mit vetítünk a másikba. \n  \nSzerinted is vicces\, ha délelőtt lecigányoznak\, este pedig skinheadeznek? \n 
URL:https://independenttheater.hu/esemenyek/8-roma-hosok-nemzetkozi-szinhazi-fesztival-taller-edina-es-gerner-csaba-magyarorszag-rosszarc/
LOCATION:Eötvös10\, Budapest\, Eötvös u. 10\, Budapest\, 1067\, Hungary\, 1067
CATEGORIES:Aktuális előadás,Rosszarc
END:VEVENT
BEGIN:VEVENT
DTSTART;TZID=Europe/Budapest:20260506T090000
DTEND;TZID=Europe/Budapest:20260506T170000
DTSTAMP:20260422T234746
CREATED:20260415T185112Z
LAST-MODIFIED:20260422T110331Z
UID:3997-1778058000-1778086800@independenttheater.hu
SUMMARY:8. ROMA HŐSÖK NEMZETKÖZI SZÍNHÁZI FESZTIVÁL - Giuvlipen Társulat (RO) - Kali & Niko G Rap koncert // Freestyle Aréna – ahol a rap és a “most” találkozik
DESCRIPTION:JEGYEK\nEötvös10 Művelődési Ház\, Pilinszky János Kamaraterem\n1067 Budapest\, Eötvös u. 10 \nElőadók\n\n\n\n\nMihaela & Nico Rap: Nicoleta Ghiță\, Mihaela Drăgan \nFreestyle Aréna – ahol a rap és a “most” találkozik: Lakatos Lucia\, Merina C Abigail\, Kálódzséró\, Hassza\, Beatbull \n\n\n\n\nLeírás\n\n\n\n\n  \nMihaela & Nico Rap: \nA koncert összefonja a személyeset a politikaival\, reflektálva a kortárs roma nők megélt tapasztalataira. Dalaik egyszerre működnek tükörként és világítótoronyként: rávilágítanak a mindennapi életet meghatározó patriarchális erőszak\, a kapitalizmus és a rasszizmus valóságára\, miközben az ellenállás és a felszabadulás látnoki narratíváit kínálják. \nFreestyle Aréna – ahol a rap és a “most” találkozik: \nEz egy élő helyzet. Ez nem koncert. Öt briliáns MC a színpadon\, hogy megmutassák\, milyen az\, amikor a rap a szemed előtt születik\, nem előre megírva. \nSe forgatókönyv\, se biztonsági háló. A közönség adja a témát – mi azonnal reagálunk. Egymásra dobjuk a sorokat\, egymásból építkezünk\, egymást visszük tovább. A flow körbejár\, a hangulat fokozódik\, és minden kör más irányba visz. Ami itt elhangzik\, az egyszeri és megismételhetetlen. Nyers energia\, humor\, odaszúrások\, gondolatok\, intellektus – minden belefér. A rap visszatér oda\, ahonnan jött: az emberek közé. \nHa van egy szavad\, egy témád vagy csak egy érzésed – dobd be. Mi megmutatjuk\, mit kezd vele a freestyle.
URL:https://independenttheater.hu/esemenyek/8-roma-hosok-nemzetkozi-szinhazi-fesztival-giuvlipen-tarsulat-romania-mihaela-nico-rap-koncert-freestyle-arena-ahol-a-rap-es-a-most-talalkozik-magyarorszag/
LOCATION:Eötvös10\, Budapest\, Eötvös u. 10\, Budapest\, 1067\, Hungary\, 1067
CATEGORIES:Aktuális előadás
END:VEVENT
BEGIN:VEVENT
DTSTART;TZID=Europe/Budapest:20260507T080000
DTEND;TZID=Europe/Budapest:20260507T170000
DTSTAMP:20260422T234746
CREATED:20260422T104451Z
LAST-MODIFIED:20260422T110815Z
UID:4044-1778140800-1778173200@independenttheater.hu
SUMMARY:8. ROMA HŐSÖK NEMZETKÖZI SZÍNHÁZI FESZTIVÁL - Horváth Kristóf (HU) Cigyar Magány
DESCRIPTION:JEGYEK\n  \n\n\n\nElőadó\n\n\n\nHorváth Kristóf\n\n\n\nLeírás\n\n\n\n\nA Trafó és a Független Színház Magyarország Stand Up Roma pályázatának nyertes projektje. \nHorváth Kristóf\, akit sokan csak „Színész Bob”-ként ismerhetnek\, stand-up előadásában a szégyen társadalmi és személyes működését vizsgálja. Egyszerre szórakoztató és mélyen konfrontatív: a humor és irónia segítségével nevez nevén olyan tipikus helyzeteket\, amelyek a társadalmi előítéletek mögötti bizonytalanságról és félelmekről mesélnek. Egy „cigány Ablak-Zsiráf” – közérthető szótár az együttéléshez\, ahol a roma nézőpont nem cél\, hanem eszköz egy közös önismereti utazáshoz. \nJátékidő: 80 perc szünet nélkül
URL:https://independenttheater.hu/esemenyek/8-roma-hosok-nemzetkozi-szinhazi-fesztival-horvath-kristof-hu-cigyar-magany/
LOCATION:Eötvös10\, Budapest\, Eötvös u. 10\, Budapest\, 1067\, Hungary\, 1067
CATEGORIES:Aktuális előadás,Cigyar Magány
END:VEVENT
BEGIN:VEVENT
DTSTART;TZID=Europe/Budapest:20260507T180000
DTEND;TZID=Europe/Budapest:20260507T200000
DTSTAMP:20260422T234746
CREATED:20260420T154241Z
LAST-MODIFIED:20260422T110709Z
UID:4025-1778176800-1778184000@independenttheater.hu
SUMMARY:8. ROMA HŐSÖK NEMZETKÖZI SZÍNHÁZI FESZTIVÁL - Forgács Rudi (HU) feat. Said Dániel: Cigány\, de rendes
DESCRIPTION:JEGYEK\n  \nEötvös10 Művelődési Ház\, Pilinszky János Kamaraterem\n1067 Budapest\, Eötvös u. 10 \n  \nA Trafó és a Független Színház Magyarország Stand Up Roma pályázatának nyertes projektje.\n\nMindenki hallott\, sőt\, talán még mondott is olyat valakiről\, hogy „cigány\, de rendes!”. Rudi is hallott már ilyet. Saját magáról. Ez a három\, elismerésnek szánt szó meglepően sokat rejt magában személyes és társadalmi szinten egyaránt. Milyen hatása van ennek a három szónak? Mi kell ahhoz\, hogy túllépjünk az előítéleteinken\, és vajon túl tudunk-e lépni rajtuk teljesen?\n\nElőadók: Forgács Rudolf és Said DánielJátékidő: 70 perc szünet nélkül\nA fesztivál társfinanszírozója az Európai Unió.
URL:https://independenttheater.hu/esemenyek/8-roma-hosok-nemzetkozi-szinhazi-fesztival-forgacs-rudi-hu-feat-said-daniel-cigany-de-rendes/
LOCATION:Eötvös10\, Budapest\, Eötvös u. 10\, Budapest\, 1067\, Hungary\, 1067
CATEGORIES:Aktuális előadás,Forgács Rudolf: Cigány, de rendes
END:VEVENT
BEGIN:VEVENT
DTSTART;TZID=Europe/Budapest:20260508T180000
DTEND;TZID=Europe/Budapest:20260508T190000
DTSTAMP:20260422T234746
CREATED:20260422T104805Z
LAST-MODIFIED:20260422T104848Z
UID:4046-1778263200-1778266800@independenttheater.hu
SUMMARY:8. ROMA HŐSÖK NEMZETKÖZI SZÍNHÁZI FESZTIVÁL - Béla Váradi (GB) Ma nem akartam kisebbség lenni
DESCRIPTION:Jegyek\n„A performansz egy élő\, időben kibomló folyamat\, amely személyes történeteken\, képeken és jelenléten keresztül vizsgálja\, mit jelent láthatónak lenni. \nA térben fragmentált vizuális és hanganyag jelenik meg korábbi munkáimból\, amelyek nem lineáris narratívát építenek\, hanem egymásra rakódó tapasztalatokat hordoznak — jelenlét és hiány határán. \nA performansz során dolgozom és létrehozok a térben: a folyamat maga válik láthatóvá\, nem egy előre rögzített forma. Nem szerepet játszom\, hanem jelen vagyok.\nA hangsúly nem a reprezentáción\, hanem a kapcsolódáson van: azon a finom\, gyakran nehezen megfogható térben\, ahol a személyes tapasztalat találkozik a néző figyelmével.” – Béla Váradi \nA megvalósítást az MKE elsőéves kurátor szakos hallgatói segítik. \nA fesztivál társfinanszírozója az Európai Unió.
URL:https://independenttheater.hu/esemenyek/8-roma-hosok-nemzetkozi-szinhazi-fesztival-bela-varadi-gb-ma-nem-akartam-kisebbseg-lenni/
CATEGORIES:Aktuális előadás
END:VEVENT
BEGIN:VEVENT
DTSTART;TZID=Europe/Budapest:20260508T200000
DTEND;TZID=Europe/Budapest:20260508T213000
DTSTAMP:20260422T234746
CREATED:20260422T105016Z
LAST-MODIFIED:20260422T110526Z
UID:4048-1778270400-1778275800@independenttheater.hu
SUMMARY:8. ROMA HŐSÖK NEMZETKÖZI SZÍNHÁZI FESZTIVÁL  - Riah Knight (GE): Feküdj mellém
DESCRIPTION:JEGYEK\nPinceszínház\, Színházterem\n1093 Budapest\, Török Pál u. 3. \nAlkotók\n\n\n\n\nRendező: Katharina Stoll\nElőadó: Riah Knight \n\n\n\n\nLeírás\n\n\n\n\nRiah vágyik arra\, hogy szeressék. Hogy egy férfi szeresse. Riah fekszik az ágyban és fantáziál. Fantáziái egyszerre lucskosak\, fülledtek\, buják\, reménytelik és kiábrándítóak. Fantáziálása során felsejlik Ádám és Lilith\, Jézus és még sokan mások a Bibliából. Nehéz a légzés ennyi szexuális energiától. Te lefeküdnél Riah mellé az ágyába\, ha arra kérne? \nRiah Knight Németországban élő és alkotó brit roma (traveller) művész előadása a színházat\, zenét és aktivizmust ötvözi. \nA Glossy Pain és Berlin TD Theatre produkciója. \nAz előadás szexuálisan szókimondó és provokatívan foglalkozik a vallással. 16 éven felülieknek ajánljuk. \nJátékidő: 50 perc szünet nélkül
URL:https://independenttheater.hu/esemenyek/riah-knight-ge-fekudj-mellem/
CATEGORIES:Aktuális előadás
END:VEVENT
BEGIN:VEVENT
DTSTART;TZID=Europe/Budapest:20260509T180000
DTEND;TZID=Europe/Budapest:20260509T190000
DTSTAMP:20260422T234746
CREATED:20260422T105414Z
LAST-MODIFIED:20260422T110546Z
UID:4052-1778349600-1778353200@independenttheater.hu
SUMMARY:8. ROMA HŐSÖK NEMZETKÖZI SZÍNHÁZI FESZTIVÁL  - Rampa Prenestina (IT): Bizonytalan identitások
DESCRIPTION:JEGYEK\n\nPinceszínház\, Színházterem\n1093 Budapest\, Török Pál u. 3. \n\nAlkotók\n\n\n\n\nElőadók: Gemila Durmis\, Mattia Alberghetti\, Erik Nikolic\, Sasha Serio\, Giulia Massimini\, Nedzad Husovic\nMűvészeti rendező: Giulia Massimini\, és Sebastian Spinella \n\n\n\n\nLeírás\n\n\n\n\n“Szia! Honnan származol?\nBosnyák vagy? Szerb? Macedón? Ukrán?\nNem tudom… talán… Azt hiszem\, olasz vagyok.\nRoma vagy? … Római!”\nStand-up comedy innen is\, onnan is\, a külvárosból és mindenhonnan.\nHa furcsa teremtménynek érzed magad\, nézz meg minket!
URL:https://independenttheater.hu/esemenyek/8-roma-hosok-nemzetkozi-szinhazi-fesztival-rampa-prenestina-it-bizonytalan-identitasok/
CATEGORIES:Aktuális előadás
END:VEVENT
BEGIN:VEVENT
DTSTART;TZID=Europe/Budapest:20260509T200000
DTEND;TZID=Europe/Budapest:20260509T213000
DTSTAMP:20260422T234746
CREATED:20260422T105545Z
LAST-MODIFIED:20260422T110924Z
UID:4054-1778356800-1778362200@independenttheater.hu
SUMMARY:8. ROMA HŐSÖK NEMZETKÖZI SZÍNHÁZI FESZTIVÁL  - Független Színház Magyarország (HU) Ki nevet a végén?
DESCRIPTION:JEGYEK\n\nPinceszínház\, Színházterem\n1093 Budapest\, Török Pál u. 3. \n\nElőadók\n\n\n\nFellépők: Balogh Orsolya\, Farkas Ramóna\, Lakatos Lucia\, Merina Camacho AbigailKözreműködők: Bogya Tímea Éva\, Dömök Edina\, Boda-Novy Emília\n\n\n\nLeírás\n\n\n\n\nA stand-up főként férfi műfaj – de mit tegyünk\, ha a Füszi lányai tökösebbek bárkinél? Négy „ártalmatlan” csajszi felperzseli a színpadot\, miközben játszi könnyedséggel hódítanak meg minden szívet\, és izomlázba kergetnek minden rekeszizmot. Miután kinyitották a szájukat és ömlenek belőlük a szavak lehet\, hogy újragondoljuk az ártalmatlanság fogalmát. \nElőadók: Balogh Orsolya\, Farkas Ramóna\, Lakatos Lucia és Merina C. Abigail \nJátékidő: 80 perc szünet nélkül
URL:https://independenttheater.hu/esemenyek/8-roma-hosok-nemzetkozi-szinhazi-fesztival-fuggetlen-szinhaz-magyarorszag-hu-ki-nevet-a-vegen/
CATEGORIES:Aktuális előadás,Ki nevet a végén?
END:VEVENT
BEGIN:VEVENT
DTSTART;TZID=Europe/Budapest:20260528T190000
DTEND;TZID=Europe/Budapest:20260528T200000
DTSTAMP:20260422T234746
CREATED:20260331T083636Z
LAST-MODIFIED:20260331T083729Z
UID:3758-1779994800-1779998400@independenttheater.hu
SUMMARY:A kenyérfa csúcsa
DESCRIPTION:Jegyek\n  \nÍró: Balogh Rodrigó és Illés Márton \nDramaturg: Pamlényi Laura \nZeneszerző: Varga Dávid és Babindák István \nFényterv és technika: Nagy Ferenc \nSzereplők: Boda-Novy Emilia\, Farkas Ramóna\, Nemcsók Nóra \nRendező: Balogh Rodrigó \n  \nRövid leírás \nEz otthon maradt\, majd messze ment. \nEz hercegről álmodott\, kit a farkas végül megevett. \nEz az icike-picike meg jól rendet tett. \nHullámvasút három hangra. \nSzilvi\, Kriszti és Viki a felnőtté válás sűrű erdejében keresik saját útjukat. \nSikerek és kudarcok sodrásában\, irányváltások közepette a legnagyobb kihívás nem is a célba érés\, hanem önmaguk és egymás elvesztésének elkerülése. \nA kenyérfa csúcsa egy szívszorítóan vicces coming-of-age történet az összetartásról\, az eltávolodásról\, az újratervezésről és arról a láthatatlan gumikötélről\, ami akkor is visszahúz a közös múltba\, amikor már azt hittük\, továbbléptünk. \nHová jutunk\, ha mindent magunk mögött hagyunk? \nÉs mi marad belőlünk?
URL:https://independenttheater.hu/esemenyek/a-kenyerfa-csucsa-2/
LOCATION:Füszi\, Páva u. 30\, Budapest\, Hungary
CATEGORIES:A kenyérfa csúcsa,Aktuális előadás
END:VEVENT
BEGIN:VEVENT
DTSTART;TZID=Europe/Budapest:20260529T190000
DTEND;TZID=Europe/Budapest:20260529T200000
DTSTAMP:20260422T234746
CREATED:20260331T083910Z
LAST-MODIFIED:20260331T083910Z
UID:3762-1780081200-1780084800@independenttheater.hu
SUMMARY:A kenyérfa csúcsa
DESCRIPTION:Jegyek\n  \nÍró: Balogh Rodrigó és Illés Márton \nDramaturg: Pamlényi Laura \nZeneszerző: Varga Dávid és Babindák István \nFényterv és technika: Nagy Ferenc \nSzereplők: Boda-Novy Emilia\, Farkas Ramóna\, Nemcsók Nóra \nRendező: Balogh Rodrigó \nRövid leírás \nEz otthon maradt\, majd messze ment. \nEz hercegről álmodott\, kit a farkas végül megevett. \nEz az icike-picike meg jól rendet tett. \nHullámvasút három hangra. \nSzilvi\, Kriszti és Viki a felnőtté válás sűrű erdejében keresik saját útjukat. \nSikerek és kudarcok sodrásában\, irányváltások közepette a legnagyobb kihívás nem is a célba érés\, hanem önmaguk és egymás elvesztésének elkerülése. \nA kenyérfa csúcsa egy szívszorítóan vicces coming-of-age történet az összetartásról\, az eltávolodásról\, az újratervezésről és arról a láthatatlan gumikötélről\, ami akkor is visszahúz a közös múltba\, amikor már azt hittük\, továbbléptünk. \nHová jutunk\, ha mindent magunk mögött hagyunk? \nÉs mi marad belőlünk?
URL:https://independenttheater.hu/esemenyek/a-kenyerfa-csucsa-3/
LOCATION:Füszi\, Páva u. 30\, Budapest\, Hungary
CATEGORIES:A kenyérfa csúcsa,Aktuális előadás
END:VEVENT
BEGIN:VEVENT
DTSTART;TZID=Europe/Budapest:20260530T190000
DTEND;TZID=Europe/Budapest:20260530T200000
DTSTAMP:20260422T234746
CREATED:20260331T083231Z
LAST-MODIFIED:20260331T083257Z
UID:3756-1780167600-1780171200@independenttheater.hu
SUMMARY:A kenyérfa csúcsa
DESCRIPTION:JEGY\n  \nÍró: Balogh Rodrigó és Illés Márton \nDramaturg: Pamlényi Laura \nZeneszerző: Varga Dávid és Babindák István \nFényterv és technika: Nagy Ferenc \nSzereplők: Boda-Novy Emilia\, Farkas Ramóna\, Nemcsók Nóra \nRendező: Balogh Rodrigó \nRövid leírás \nEz otthon maradt\, majd messze ment. \nEz hercegről álmodott\, kit a farkas végül megevett. \nEz az icike-picike meg jól rendet tett. \nHullámvasút három hangra. \nSzilvi\, Kriszti és Viki a felnőtté válás sűrű erdejében keresik saját útjukat. \nSikerek és kudarcok sodrásában\, irányváltások közepette a legnagyobb kihívás nem is a célba érés\, hanem önmaguk és egymás elvesztésének elkerülése. \nA kenyérfa csúcsa egy szívszorítóan vicces coming-of-age történet az összetartásról\, az eltávolodásról\, az újratervezésről és arról a láthatatlan gumikötélről\, ami akkor is visszahúz a közös múltba\, amikor már azt hittük\, továbbléptünk. \nHová jutunk\, ha mindent magunk mögött hagyunk? \nÉs mi marad belőlünk?
URL:https://independenttheater.hu/esemenyek/a-kenyerfa-csucsa/
LOCATION:Füszi\, Páva u. 30\, Budapest\, Hungary
CATEGORIES:A kenyérfa csúcsa,Aktuális előadás
END:VEVENT
END:VCALENDAR