BEGIN:VCALENDAR
VERSION:2.0
PRODID:-//Independent Theater Hungary - ECPv6.15.20//NONSGML v1.0//EN
CALSCALE:GREGORIAN
METHOD:PUBLISH
X-ORIGINAL-URL:https://independenttheater.hu
X-WR-CALDESC:Események Independent Theater Hungary
REFRESH-INTERVAL;VALUE=DURATION:PT1H
X-Robots-Tag:noindex
X-PUBLISHED-TTL:PT1H
BEGIN:VTIMEZONE
TZID:Europe/Budapest
BEGIN:DAYLIGHT
TZOFFSETFROM:+0100
TZOFFSETTO:+0200
TZNAME:CEST
DTSTART:20250330T010000
END:DAYLIGHT
BEGIN:STANDARD
TZOFFSETFROM:+0200
TZOFFSETTO:+0100
TZNAME:CET
DTSTART:20251026T010000
END:STANDARD
BEGIN:DAYLIGHT
TZOFFSETFROM:+0100
TZOFFSETTO:+0200
TZNAME:CEST
DTSTART:20260329T010000
END:DAYLIGHT
BEGIN:STANDARD
TZOFFSETFROM:+0200
TZOFFSETTO:+0100
TZNAME:CET
DTSTART:20261025T010000
END:STANDARD
BEGIN:DAYLIGHT
TZOFFSETFROM:+0100
TZOFFSETTO:+0200
TZNAME:CEST
DTSTART:20270328T010000
END:DAYLIGHT
BEGIN:STANDARD
TZOFFSETFROM:+0200
TZOFFSETTO:+0100
TZNAME:CET
DTSTART:20271031T010000
END:STANDARD
END:VTIMEZONE
BEGIN:VEVENT
DTSTART;TZID=Europe/Budapest:20260411T180000
DTEND;TZID=Europe/Budapest:20260411T190000
DTSTAMP:20260420T003401
CREATED:20260304T140718Z
LAST-MODIFIED:20260304T140918Z
UID:3611-1775930400-1775934000@independenttheater.hu
SUMMARY:Prikézsia\, avagy Pancu és a hagyományok a születéstől az újjászületésig
DESCRIPTION:Jegyek\n  \nA prikézsia (vagy prikezsia\, prikezhija) cigány szó\, jelentése: szerencsétlenség\, baleset\, átok. \nAz előadás elkészítése során hagyományainkhoz való viszonyunkat kutattuk. Fókuszunkba a generációk közti szakadék került\, különös tekintettel a ránk zúdított\, olykor feleslegesnek tűnő elvárásokra. \nUgyanígy megkerülhetetlen téma volt Pancu. Néha vérre menő vitákat folytattunk arról\, hogyan került oda\, és egyáltalán\, mit keres ott. Érdemes lenne-e felemelni? Fel a magasba. Megbotránkozna azon még valaki? Inkább bele kéne bújni! Ezen rengeteget gondolkodtunk az interdiszciplináris alkotófolyamat alatt. \nAztán Pancu mesélni kezdett. Csak mondta és mondta. Mesélt minket. Írásban ez túl hosszú lenne. \nTalálkozzunk! Engedd meg\, hogy elkalauzoljunk ezen a magunkból ácsolt\, kalandos úton. Gyere el! \nNa\, gyere\, adj egy puszit! (cupp) \nAztán elgyere ám\, mert ránk hozod a prikézsiát! \nAz előadás létrejöttét az Európia Unió támogatta.
URL:https://independenttheater.hu/esemenyek/a-prikezsia-vagy-prikezsia-prikezhija-cigany-szo-jelentese-szerencsetlenseg-baleset-atok-az-eloadas-elkeszitese-soran-hagyomanyainkhoz-valo-viszonyunkat-kutattuk-fokuszunkba-a-generaciok-k-2/
LOCATION:Füszi\, Páva u. 30\, Budapest\, Hungary
CATEGORIES:Aktuális előadás,prikezsia
END:VEVENT
BEGIN:VEVENT
DTSTART;TZID=Europe/Budapest:20260424T190000
DTEND;TZID=Europe/Budapest:20260424T200000
DTSTAMP:20260420T003401
CREATED:20260304T141737Z
LAST-MODIFIED:20260304T142958Z
UID:3621-1777057200-1777060800@independenttheater.hu
SUMMARY:Forgács Rudolf: Cigány\, de rendes - A Trafó és a Független Színház Magyarország együttműködésében kiírt Stand Up Roma pályázati felhívás nyertes projektje.
DESCRIPTION:Jegyek\nA Trafó és a Független Színház Magyarország együttműködésében kiírt Stand Up Roma pályázati felhívás nyertes projektje. \n„Rudi nem lop. Dani nem terrorista. Ezek döbbenetes tények\, hiszen Rudi félig cigány\, Dani pedig félig arab.” \nForgács Rudolf félig roma\, félig székely fiatal humorista Erdélyből\, aki nemrég végzett a kolozsvári zeneakadémián. Őt egészíti ki Said Dániel félig magyar\, félig szíriai humorista\, a Showder Klub és a Dumaszínház visszatérő fellépője\, aki egész életét a 8. kerületben élte le. \n„Tehát Rudi egy muzsikus cigány\, Daninak pedig közel van a Muzsikus cigányok parkja. \nTalán ezért van\, hogy Rudi és Dani bírják egymást. Vagy azért\, mert mindketten szeretnék azt hinni\, hogy »rendesek« – bármit is jelentsen ez. (Valószínűleg azt\, hogy nem lopnak\, és nem terroristák.) \nMindenki hallott\, sőt\, talán még mondott is olyat valakiről\, hogy »cigány\, de rendes!«. Rudi is hallott már ilyet. Saját magáról. Ez a három\, elismerésnek szánt szó meglepően sokat rejt magában személyes és társadalmi szinten egyaránt. Milyen hatása van ennek a három szónak? Mi kell ahhoz\, hogy túllépjünk az előítéleteinken\, és vajon túl tudunk-e lépni rajtuk teljesen? \nA két humorista és a közönség együtt érezheti meg a határokat: miből lehet viccet csinálni\, és miből nem. És mindezt kinek? Az előadás végén mindenki maga döntheti el\, hogy mit gondol arról a cigányról\, akit a Trafó színpadán látott\, és hogy ez megváltoztatja-e a véleményét azokról\, akikkel még nem is találkozott.” (Forgács Rudolf) \nFotó: Kalicz Máté / Trafó
URL:https://independenttheater.hu/esemenyek/forgacs-rudolf-cigany-de-rendes-a-trafo-es-a-fuggetlen-szinhaz-magyarorszag-egyuttmukodeseben-kiirt-stand-up-roma-palyazati-felhivas-nyertes-projektje/
LOCATION:Füszi\, Páva u. 30\, Budapest\, Hungary
CATEGORIES:Aktuális előadás,Előadás,Forgács Rudolf: Cigány, de rendes
END:VEVENT
BEGIN:VEVENT
DTSTART;TZID=Europe/Budapest:20260425T190000
DTEND;TZID=Europe/Budapest:20260425T200000
DTSTAMP:20260420T003401
CREATED:20260304T142204Z
LAST-MODIFIED:20260304T142330Z
UID:3623-1777143600-1777147200@independenttheater.hu
SUMMARY:Ki nevet a végén?
DESCRIPTION:Jegyek\n  \nA Füszi első stand up estje! \nRoma és nem roma csajok egy színpadon – ütőképes történetek\, veszélyes őszinteség és négy ártalmatlan nő. \nNői stand-up? Hogyne lenne az! Hiszen ennyire bátor és szókimondó előadókat még nem látott Budapest. \nHa még nem voltál stand-upon\, itt az idő. Ha már voltál\, akkor ez az este új szintre emel – ne tévesszen meg a lépcsőlejárat a színpadhoz. \nFotó: Bordás Róbert
URL:https://independenttheater.hu/esemenyek/ki-nevet-a-vegen-3/
LOCATION:Füszi\, Páva u. 30\, Budapest\, Hungary
CATEGORIES:Aktuális előadás,Előadás,Ki nevet a végén?
END:VEVENT
BEGIN:VEVENT
DTSTART;TZID=Europe/Budapest:20260426T190000
DTEND;TZID=Europe/Budapest:20260426T200000
DTSTAMP:20260420T003401
CREATED:20260304T142314Z
LAST-MODIFIED:20260304T142351Z
UID:3625-1777230000-1777233600@independenttheater.hu
SUMMARY:Ki nevet a végén?
DESCRIPTION:Jegyek\nA Füszi első stand up estje! \nRoma és nem roma csajok egy színpadon – ütőképes történetek\, veszélyes őszinteség és négy ártalmatlan nő. \nNői stand-up? Hogyne lenne az! Hiszen ennyire bátor és szókimondó előadókat még nem látott Budapest. \nHa még nem voltál stand-upon\, itt az idő. Ha már voltál\, akkor ez az este új szintre emel – ne tévesszen meg a lépcsőlejárat a színpadhoz. \n 
URL:https://independenttheater.hu/esemenyek/ki-nevet-a-vegen-5/
LOCATION:Füszi\, Páva u. 30\, Budapest\, Hungary
CATEGORIES:Aktuális előadás,Előadás,Ki nevet a végén?
END:VEVENT
END:VCALENDAR