BEGIN:VCALENDAR
VERSION:2.0
PRODID:-//Independent Theater Hungary - ECPv6.15.20//NONSGML v1.0//EN
CALSCALE:GREGORIAN
METHOD:PUBLISH
X-ORIGINAL-URL:https://independenttheater.hu
X-WR-CALDESC:Események Independent Theater Hungary
REFRESH-INTERVAL;VALUE=DURATION:PT1H
X-Robots-Tag:noindex
X-PUBLISHED-TTL:PT1H
BEGIN:VTIMEZONE
TZID:Europe/Budapest
BEGIN:DAYLIGHT
TZOFFSETFROM:+0100
TZOFFSETTO:+0200
TZNAME:CEST
DTSTART:20250330T010000
END:DAYLIGHT
BEGIN:STANDARD
TZOFFSETFROM:+0200
TZOFFSETTO:+0100
TZNAME:CET
DTSTART:20251026T010000
END:STANDARD
BEGIN:DAYLIGHT
TZOFFSETFROM:+0100
TZOFFSETTO:+0200
TZNAME:CEST
DTSTART:20260329T010000
END:DAYLIGHT
BEGIN:STANDARD
TZOFFSETFROM:+0200
TZOFFSETTO:+0100
TZNAME:CET
DTSTART:20261025T010000
END:STANDARD
BEGIN:DAYLIGHT
TZOFFSETFROM:+0100
TZOFFSETTO:+0200
TZNAME:CEST
DTSTART:20270328T010000
END:DAYLIGHT
BEGIN:STANDARD
TZOFFSETFROM:+0200
TZOFFSETTO:+0100
TZNAME:CET
DTSTART:20271031T010000
END:STANDARD
END:VTIMEZONE
BEGIN:VEVENT
DTSTART;TZID=Europe/Budapest:20260522T190000
DTEND;TZID=Europe/Budapest:20260522T200000
DTSTAMP:20260426T021713
CREATED:20260424T132551Z
LAST-MODIFIED:20260424T132551Z
UID:4095-1779476400-1779480000@independenttheater.hu
SUMMARY:Rendszerbontók
DESCRIPTION:JEGYEK\nSándor szabad filmrendező szeretne lenni\, de a kelet-európai diktatúrának\, amiben él\, más tervei vannak vele. Az állam szakmai munkáját és társas kapcsolatait is meghatározza\, sőt még a hálószobájába is befurakszik. \n  \nHogyan válhat igazán sikeressé egy filmrendező a árgus szemekkel figyelő szocializmus korában? A Rendszerbontók nem finomkodik: ez a történet az elnyomásról\, a szabadságról és azokról szól\, akik nem akarnak lúzerré válni egy diktatúrában. \n  \nVigyázat! A Rendszerbontók előadás nyomokban hozzájárul történelmi ismereteink bővítéséhez. Megnyugodhatunk\, ez a sztori sem lesz benne a tankönyvekben. De szükséges ahhoz\, hogy szembenézhessünk közös múltunkkal\, jelenünkkel és tovább tudjunk lépni. Az előadásban megjelenő személyek és események fikciósak\, ugyanakkor a bemutatott történetek jelentős része megtörtént. Az előadás megszületését valós személyek inspirálták\, akiknek a küzdelmei tiszteletet érdemelnek. \n  \n  \nÍró: Balogh Rodrigó\, Illés Márton \nRendező: Balogh Rodrigó \nJátsszák: Csányi Dávid\, Fenyvesi Krisztina\, Szegedi Tamás András \nDramaturg: Bogya Tímea Éva \nSegédrendező: Lakatos Lucia \nZenei szerkesztő: Varga Dávid \nFényterv: Nagy Ferenc \nTechnika: Szegedi Szilárd \nMagyar-Romani fordítás: Buzás-Hábel Géza \nMagyar-német lektorálás: Gagyi Ádám \n  \n  \nAz előadás nyíltan foglalkozik a szexualitással. Megtekintése 18 éven aluliaknak nem ajánlott a hazai jogszabályok szerint.
URL:https://independenttheater.hu/esemenyek/rendszerbontok-2/
LOCATION:Füszi\, Páva u. 30\, Budapest\, Hungary
CATEGORIES:Aktuális előadás,Rendszerbontók
END:VEVENT
END:VCALENDAR