BEGIN:VCALENDAR
VERSION:2.0
PRODID:-//Independent Theater Hungary - ECPv6.15.20//NONSGML v1.0//EN
CALSCALE:GREGORIAN
METHOD:PUBLISH
X-WR-CALNAME:Independent Theater Hungary
X-ORIGINAL-URL:https://independenttheater.hu
X-WR-CALDESC:Események Independent Theater Hungary
REFRESH-INTERVAL;VALUE=DURATION:PT1H
X-Robots-Tag:noindex
X-PUBLISHED-TTL:PT1H
BEGIN:VTIMEZONE
TZID:Europe/Budapest
BEGIN:DAYLIGHT
TZOFFSETFROM:+0100
TZOFFSETTO:+0200
TZNAME:CEST
DTSTART:20250330T010000
END:DAYLIGHT
BEGIN:STANDARD
TZOFFSETFROM:+0200
TZOFFSETTO:+0100
TZNAME:CET
DTSTART:20251026T010000
END:STANDARD
BEGIN:DAYLIGHT
TZOFFSETFROM:+0100
TZOFFSETTO:+0200
TZNAME:CEST
DTSTART:20260329T010000
END:DAYLIGHT
BEGIN:STANDARD
TZOFFSETFROM:+0200
TZOFFSETTO:+0100
TZNAME:CET
DTSTART:20261025T010000
END:STANDARD
BEGIN:DAYLIGHT
TZOFFSETFROM:+0100
TZOFFSETTO:+0200
TZNAME:CEST
DTSTART:20270328T010000
END:DAYLIGHT
BEGIN:STANDARD
TZOFFSETFROM:+0200
TZOFFSETTO:+0100
TZNAME:CET
DTSTART:20271031T010000
END:STANDARD
END:VTIMEZONE
BEGIN:VEVENT
DTSTART;TZID=Europe/Budapest:20260506T070000
DTEND;TZID=Europe/Budapest:20260506T170000
DTSTAMP:20260423T102415
CREATED:20260415T184535Z
LAST-MODIFIED:20260422T110624Z
UID:3994-1778050800-1778086800@independenttheater.hu
SUMMARY:8. ROMA HŐSÖK NEMZETKÖZI SZÍNHÁZI FESZTIVÁL - Tallér Edina és Gerner Csaba (HU): Rosszarc
DESCRIPTION:JEGYEK\nEötvös10 Művelődési Ház\, Pilinszky János Kamaraterem\n1067 Budapest\, Eötvös u. 10 \n Trafó és a Független Színház Magyarország Stand Up Roma pályázatának nyertes projektje. \n  \nA stand up és monodráma határán mozgó előadás\, amelyben egy színész saját történetein keresztül mutatja meg\, hogyan épülnek fel a színpadi karakterek. A jelenetek egyszerre játékosak és szembesítő erejűek\, rávilágítanak arra\, hogyan látjuk egymást és mit vetítünk a másikba. \n  \nSzerinted is vicces\, ha délelőtt lecigányoznak\, este pedig skinheadeznek? \n 
URL:https://independenttheater.hu/esemenyek/8-roma-hosok-nemzetkozi-szinhazi-fesztival-taller-edina-es-gerner-csaba-magyarorszag-rosszarc/
LOCATION:Eötvös10\, Budapest\, Eötvös u. 10\, Budapest\, 1067\, Hungary\, 1067
CATEGORIES:Aktuális előadás,Rosszarc
END:VEVENT
END:VCALENDAR